BEGIN:VCALENDAR
VERSION:2.0
PRODID:spatie/icalendar-generator
DESCRIPTION:Évènements de Lycée Franco-Allemand de Sarrebruck
X-WR-CALDESC:Évènements de Lycée Franco-Allemand de Sarrebruck
REFRESH-INTERVAL;VALUE=DURATION:PT1440M
X-PUBLISHED-TTL:PT1440M
BEGIN:VTIMEZONE
TZID:Europe/Berlin
BEGIN:STANDARD
DTSTART:20251026T030000Z
TZOFFSETFROM:+0200
TZOFFSETTO:+0100
END:STANDARD
BEGIN:DAYLIGHT
DTSTART:20260329T020000Z
TZOFFSETFROM:+0100
TZOFFSETTO:+0200
END:DAYLIGHT
END:VTIMEZONE
BEGIN:VTIMEZONE
TZID:UTC
BEGIN:STANDARD
DTSTART:20250725T000156Z
TZOFFSETFROM:+0000
TZOFFSETTO:+0000
END:STANDARD
END:VTIMEZONE
BEGIN:VEVENT
UID:59-50
DTSTAMP:20260421T000156Z
SUMMARY:Letzter Schultag - Dernier jour de cours (Tle)
LOCATION:
ORGANIZER;CN=Administrator:MAILTO:s.pfefferle@dfg-lfa.org
DTSTART;TZID=Europe/Berlin;VALUE=DATE:20260318
DTEND;TZID=Europe/Berlin;VALUE=DATE:20260319
X-ALT-DESC;FMTTYPE=TEXT/HTML:
CATEGORIES:General
URL;VALUE=URI:https://dfg-lfa.org/fr/mc-events/letzter-schultag-dernier-jou
 r-de-cours-tle/
METHOD:PUBLISH
END:VEVENT
END:VCALENDAR