BEGIN:VCALENDAR
VERSION:2.0
PRODID:spatie/icalendar-generator
DESCRIPTION:Évènements de Lycée Franco-Allemand de Sarrebruck
X-WR-CALDESC:Évènements de Lycée Franco-Allemand de Sarrebruck
REFRESH-INTERVAL;VALUE=DURATION:PT1440M
X-PUBLISHED-TTL:PT1440M
BEGIN:VTIMEZONE
TZID:Europe/Berlin
BEGIN:STANDARD
DTSTART:20251026T030000Z
TZOFFSETFROM:+0200
TZOFFSETTO:+0100
END:STANDARD
BEGIN:DAYLIGHT
DTSTART:20260329T020000Z
TZOFFSETFROM:+0100
TZOFFSETTO:+0200
END:DAYLIGHT
BEGIN:STANDARD
DTSTART:20261025T030000Z
TZOFFSETFROM:+0200
TZOFFSETTO:+0100
END:STANDARD
END:VTIMEZONE
BEGIN:VTIMEZONE
TZID:UTC
BEGIN:STANDARD
DTSTART:20250725T012716Z
TZOFFSETFROM:+0000
TZOFFSETTO:+0000
END:STANDARD
END:VTIMEZONE
BEGIN:VEVENT
UID:78-69
DTSTAMP:20260421T012716Z
SUMMARY:Nachprüfungen schriftliches Abitur - Examens de rattrapage du bacc
 alauréat
LOCATION:
ORGANIZER;CN=Administrator:MAILTO:s.pfefferle@dfg-lfa.org
DTSTART;TZID=Europe/Berlin;VALUE=DATE:20260504
DTEND;TZID=Europe/Berlin;VALUE=DATE:20260508
X-ALT-DESC;FMTTYPE=TEXT/HTML:
CATEGORIES:General
URL;VALUE=URI:https://dfg-lfa.org/fr/mc-events/nachpruefungen-schriftliches
 -abitur-examens-de-rattrapage-du-baccalaureat/
METHOD:PUBLISH
END:VEVENT
END:VCALENDAR