BEGIN:VCALENDAR
VERSION:2.0
PRODID:spatie/icalendar-generator
DESCRIPTION:Veranstaltungen von Deutsch-Französisches­ Gymnasium Saarbrü
 cken
X-WR-CALDESC:Veranstaltungen von Deutsch-Französisches­ Gymnasium Saarbr
 ücken
REFRESH-INTERVAL;VALUE=DURATION:PT1440M
X-PUBLISHED-TTL:PT1440M
BEGIN:VTIMEZONE
TZID:Europe/Berlin
BEGIN:STANDARD
DTSTART:20251026T030000Z
TZOFFSETFROM:+0200
TZOFFSETTO:+0100
END:STANDARD
BEGIN:DAYLIGHT
DTSTART:20260329T020000Z
TZOFFSETFROM:+0100
TZOFFSETTO:+0200
END:DAYLIGHT
BEGIN:STANDARD
DTSTART:20261025T030000Z
TZOFFSETFROM:+0200
TZOFFSETTO:+0100
END:STANDARD
END:VTIMEZONE
BEGIN:VTIMEZONE
TZID:UTC
BEGIN:STANDARD
DTSTART:20250725T011551Z
TZOFFSETFROM:+0000
TZOFFSETTO:+0000
END:STANDARD
END:VTIMEZONE
BEGIN:VEVENT
UID:127-85
DTSTAMP:20260421T011551Z
SUMMARY:Mediensprechstunde - Permanence médias
LOCATION:
ORGANIZER;CN=Administrator:MAILTO:s.pfefferle@dfg-lfa.org
RRULE:FREQ=WEEKLY;UNTIL=20260702T000000Z
DTSTART;TZID=Europe/Berlin:20260430T112500
DTEND;TZID=Europe/Berlin:20260430T114000
X-ALT-DESC;FMTTYPE=TEXT/HTML:Ihr habt Probleme mit eurem Laptop? Oder Frage
 n zu einem Programm? Oder ihr braucht einfach einen Tipp\, was ihr mit eur
 em digitalen Gerät machen könnt? Dann kommt zur Mediensprechstunde. Jede
 n Donnerstag\, 2. Große Pause\, Sprachlabor\, Raum 1.24  Wir hoffen\, ih
 r hattet schöne Ferien und seid gut ins neue Schuljahr gestartet. Gerne w
 ollen wir euch mit&amp;hellip\;
CATEGORIES:General
URL;VALUE=URI:https://dfg-lfa.org/mc-events/mediensprechstunde-permanence-m
 edias/?mc_id=127
METHOD:PUBLISH
END:VEVENT
END:VCALENDAR