BEGIN:VCALENDAR
VERSION:2.0
PRODID:spatie/icalendar-generator
DESCRIPTION:Veranstaltungen von Deutsch-Französisches­ Gymnasium Saarbrü
 cken
X-WR-CALDESC:Veranstaltungen von Deutsch-Französisches­ Gymnasium Saarbr
 ücken
REFRESH-INTERVAL;VALUE=DURATION:PT1440M
X-PUBLISHED-TTL:PT1440M
BEGIN:VTIMEZONE
TZID:Europe/Berlin
BEGIN:STANDARD
DTSTART:20251026T030000Z
TZOFFSETFROM:+0200
TZOFFSETTO:+0100
END:STANDARD
BEGIN:DAYLIGHT
DTSTART:20260329T020000Z
TZOFFSETFROM:+0100
TZOFFSETTO:+0200
END:DAYLIGHT
BEGIN:STANDARD
DTSTART:20261025T030000Z
TZOFFSETFROM:+0200
TZOFFSETTO:+0100
END:STANDARD
END:VTIMEZONE
BEGIN:VTIMEZONE
TZID:UTC
BEGIN:STANDARD
DTSTART:20250725T024703Z
TZOFFSETFROM:+0000
TZOFFSETTO:+0000
END:STANDARD
END:VTIMEZONE
BEGIN:VEVENT
UID:73-64
DTSTAMP:20260421T024703Z
SUMMARY:Mündliche Abiturprüfungen in den fakultativen Fächern - Examens 
 oraux du baccalauréat dans les matières facultatives
LOCATION:
ORGANIZER;CN=Administrator:MAILTO:s.pfefferle@dfg-lfa.org
DTSTART;TZID=Europe/Berlin;VALUE=DATE:20260424
DTEND;TZID=Europe/Berlin;VALUE=DATE:20260425
X-ALT-DESC;FMTTYPE=TEXT/HTML:
CATEGORIES:General
URL;VALUE=URI:https://dfg-lfa.org/mc-events/muendliche-abiturpruefungen-in-
 den-fakultativen-faechern-examens-oraux-du-baccalaureat-dans-les-matieres-
 facultatives/
METHOD:PUBLISH
END:VEVENT
END:VCALENDAR